BEGIN:VCALENDAR
PRODID:-//hacksw/handcal//NONSGML v1.0//EN
VERSION:2.0
METHOD:PUBLISH
BEGIN:VEVENT
SUMMARY:Relaunch Your Career
LOCATION:
DESCRIPTION:Bates College + Lighthouse Career Associates Present a New Virtual Pro
 fessional Development Program Series! Relaunch Your Career It was hard
  deciding to leave your job\, the one you worked hard to land\, to be
 come a full-time parent or caregiver. Deciding when (or if) to return 
 to work can be even more complicated.   Is there a "right" time…
 
DTSTART:20220504T160000Z
DTEND:20220504T173000Z
CLASS:PUBLIC
UID:batesevent-24328@https://www.bates.edu/alumni
URL:https://www.bates.edu/alumni/?p=24328
END:VEVENT
END:VCALENDAR