BEGIN:VCALENDAR
PRODID:-//hacksw/handcal//NONSGML v1.0//EN
VERSION:2.0
METHOD:PUBLISH
BEGIN:VEVENT
SUMMARY:Bates in Burlington
LOCATION:Outdoor Patio Foam Brewers\, Burlington\, VT\, 05401
DESCRIPTION:Burlington Bobcats\, please join us in an evening of comradery!
 
DTSTART:20240912T220000Z
DTEND:20240913T000000Z
CLASS:PUBLIC
UID:batesevent-33480@https://www.bates.edu/alumni
URL:https://www.bates.edu/alumni/?p=33480
END:VEVENT
END:VCALENDAR