BEGIN:VCALENDAR
PRODID:-//hacksw/handcal//NONSGML v1.0//EN
VERSION:2.0
METHOD:PUBLISH
BEGIN:VEVENT
SUMMARY:Bates in Los Angeles: An Evening with President Clayton Spencer
LOCATION: Perch -- Bar 13\, Los Angeles\, California\, 90013
DESCRIPTION:Join alumni\, current parents\, and friends of Bates for an evening wi
 th President Spencer\, featuring an in-depth conversation with Clayton
  as she reflects on her time as president of Bates\, and her thoughts 
 on leadership\, the liberal arts\, and how the college is poised to mo
 ve forward. Space is limited. The evening will include pre…
 
DTSTART:20230111T023000Z
DTEND:20230111T043000Z
CLASS:PUBLIC
UID:batesevent-27229@https://www.bates.edu/alumni
URL:https://www.bates.edu/alumni/?p=27229
END:VEVENT
END:VCALENDAR