BEGIN:VCALENDAR
PRODID:-//hacksw/handcal//NONSGML v1.0//EN
VERSION:2.0
METHOD:PUBLISH
BEGIN:VEVENT
SUMMARY:Bates Men’s Basketball Alumni Weekend
LOCATION: Alumni Gymnasium\, Lewiston\, ME\, 
DESCRIPTION:It's time to return to Alumni Gym! We are looking forward to seeing yo
 u at our annual  Bates Men's Basketball Alumni Weekend\, a chance to 
 reconnect with your teammates\, celebrate the program’s history\, an
 d cheer on the Bobcats during a pivotal NESCAC stretch. Bonus January 
 & February Receptions: We'll be hosting receptions in the Thompson…
 
DTSTART:20260131T000000Z
DTEND:20260202T000000Z
CLASS:PUBLIC
UID:batesevent-40509@https://www.bates.edu/alumni
URL:https://www.bates.edu/alumni/?p=40509
END:VEVENT
END:VCALENDAR