BEGIN:VCALENDAR
PRODID:-//hacksw/handcal//NONSGML v1.0//EN
VERSION:2.0
METHOD:PUBLISH
BEGIN:VEVENT
SUMMARY:Bates Squash Alumni Weekend
LOCATION:
DESCRIPTION:Get ready to reconnect with teammates\, step back onto the court\, and
  cheer on the Bobcats! You are invited to the Bates Squash Alumni Week
 end. We have a fun-filled weekend planned around our NESCAC rivals\, B
 owdoin and Colby. Weekend Schedule: Please check the real-time match 
 schedule for game time adjustments. Friday\, February 6: Alumni Recep
 tion & Bowdoin…
 
DTSTART:20260206T170000Z
DTEND:20260207T170000Z
CLASS:PUBLIC
UID:batesevent-40571@https://www.bates.edu/alumni
URL:https://www.bates.edu/alumni/?p=40571
END:VEVENT
END:VCALENDAR