BEGIN:VCALENDAR
PRODID:-//hacksw/handcal//NONSGML v1.0//EN
VERSION:2.0
METHOD:PUBLISH
BEGIN:VEVENT
SUMMARY:Bates Women’s Basketball Alumnae Weekend
LOCATION: Alumni Gymnasium\, Lewiston\, ME\, 
DESCRIPTION:We are looking forward to welcoming you back to Alumni Gym for a weeke
 nd of Bates Basketball! Come reconnect with teammates\, meet the curre
 nt team\, and cheer on the Bobcats as they take on key NESCAC rivals. 
 Bonus January & February Receptions: We'll be hosting receptions in th
 e Thompson Room during select Men's and Women's…
 
DTSTART:20260207T000000Z
DTEND:20260208T090000Z
CLASS:PUBLIC
UID:batesevent-40405@https://www.bates.edu/alumni
URL:https://www.bates.edu/alumni/?p=40405
END:VEVENT
END:VCALENDAR