BEGIN:VCALENDAR
PRODID:-//hacksw/handcal//NONSGML v1.0//EN
VERSION:2.0
METHOD:PUBLISH
BEGIN:VEVENT
SUMMARY:Bobcat Reads: How to Read a Book
LOCATION:
DESCRIPTION:Bobcat Reads will be discussing How to Read a Book by Monica Wood fro
 m March 13\, 2026\, through May 15\, 2026. In the next Bobcat Reads se
 lection\, How to Read a Book by Maine author Monica Wood\, this moving
  novel set in Portland\, Maine\, follows the lives of three strangers 
 as they intertwine after a tragic…
 
DTSTART:20260313T160000Z
DTEND:20260515T160000Z
CLASS:PUBLIC
UID:batesevent-41455@https://www.bates.edu/alumni
URL:https://www.bates.edu/alumni/?p=41455
END:VEVENT
END:VCALENDAR