BEGIN:VCALENDAR
PRODID:-//hacksw/handcal//NONSGML v1.0//EN
VERSION:2.0
METHOD:PUBLISH
BEGIN:VEVENT
SUMMARY:Boston Alumnae Book Club: The Lion Women of Tehran
LOCATION:
DESCRIPTION:VIRTUAL MEETING! Do you like meeting new people\, reading great books\
 , and discussing them? Don’t miss this unique opportunity to join th
 e Boston Alumnae Book Club! Anyone interested in joining the conversat
 ion should contact the club coordinator\, Lisa Romeo ’88\, at romeol
 i66@gmail.com. She will provide instructions and additional details. A
 ll meetings start at 7 PM…
 
DTSTART:20260128T000000Z
DTEND:20260128T020000Z
CLASS:PUBLIC
UID:batesevent-38171@https://www.bates.edu/alumni
URL:https://www.bates.edu/alumni/?p=38171
END:VEVENT
END:VCALENDAR