BEGIN:VCALENDAR
PRODID:-//hacksw/handcal//NONSGML v1.0//EN
VERSION:2.0
METHOD:PUBLISH
BEGIN:VEVENT
SUMMARY:From Bates to the Olympics: A Conversation with Nancy Ingersoll Fidler ’78
LOCATION:
DESCRIPTION:Nancy Ingersoll Fiddler ’78 began her cross-country skiing journey a
 t Bates. The journey led to 14 national championship titles\, two Olym
 pic teams\, and 4 World Championship teams. She remains very active in
  the sport and recently collaborated with a group of women Olympic cro
 ss-country skiers on the book\, Trail to Gold\, a Journey of 53…
 
DTSTART:20230510T230000Z
DTEND:20230510T230000Z
CLASS:PUBLIC
UID:batesevent-29305@https://www.bates.edu/alumni
URL:https://www.bates.edu/alumni/?p=29305
END:VEVENT
END:VCALENDAR