BEGIN:VCALENDAR
PRODID:-//hacksw/handcal//NONSGML v1.0//EN
VERSION:2.0
METHOD:PUBLISH
BEGIN:VEVENT
SUMMARY:MOSAIC Book Club: Behind the Beautiful Forevers
LOCATION:
DESCRIPTION:The first MOSAIC Bookclub selection is Behind the Beautiful Forevers b
 y Katherine Boo! In this National Book Award winner\, Pulitzer Prize-w
 inner story. Join the conversation!
 
DTSTART:20260205T000000Z
DTEND:20260205T000000Z
CLASS:PUBLIC
UID:batesevent-40600@https://www.bates.edu/alumni
URL:https://www.bates.edu/alumni/?p=40600
END:VEVENT
END:VCALENDAR