BEGIN:VCALENDAR
PRODID:-//hacksw/handcal//NONSGML v1.0//EN
VERSION:2.0
METHOD:PUBLISH
BEGIN:VEVENT
SUMMARY:MOSAIC in D.C. — Paint & Sip
LOCATION:Allure Bar & Lounge \, Washington\, D.C.\, 20001
DESCRIPTION:Come unwind\, get creative\, and celebrate community with fellow MOSAI
 C alumni. We are excited to partner with Sade Paint & Sip\, a Black-ow
 ned business\, to lead our guided painting experience in Washington\, 
 D.C. Whether you are a seasoned artist or picking up a brush for the f
 irst time\, join us for a guided session filled…
 
DTSTART:20260514T223000Z
DTEND:20260515T003000Z
CLASS:PUBLIC
UID:batesevent-42046@https://www.bates.edu/alumni
URL:https://www.bates.edu/alumni/?p=42046
END:VEVENT
END:VCALENDAR