BEGIN:VCALENDAR
PRODID:-//hacksw/handcal//NONSGML v1.0//EN
VERSION:2.0
METHOD:PUBLISH
BEGIN:VEVENT
SUMMARY:MOSAIC in NYC: A Culinary Journey
LOCATION:Loft39 \, New York\, NY\, 10018
DESCRIPTION:We’re thrilled to offer a one-of-a-kind dining experience crafted by
  our own Bates alum\, Steve 'Toúchef' Coupet ’09. We’ll sample sm
 all-plates that draw inspiration from throughout the Black diaspora\, 
 interwoven with stories of each plate. This event is sure to feed your
  mind and body!  Venue Accessibility & Dining Details We’ve unfortu
 nately just learned that…
 
DTSTART:20260207T213000Z
DTEND:20260207T213000Z
CLASS:PUBLIC
UID:batesevent-40686@https://www.bates.edu/alumni
URL:https://www.bates.edu/alumni/?p=40686
END:VEVENT
END:VCALENDAR