BEGIN:VCALENDAR
PRODID:-//hacksw/handcal//NONSGML v1.0//EN
VERSION:2.0
METHOD:PUBLISH
BEGIN:VEVENT
SUMMARY:Tennis Alumni Weekend
LOCATION:Fireplace Lounge Commons\,\, Lewiston\, ME\, 
DESCRIPTION:Bates Tennis is more than a season—it’s a lifelong connection. On 
 Saturday\, March 28\, we’re trading our rackets post match for refre
 shments and good conversation. Gather with alumni\, families\, and the
  current team after the days matches vs. Bowdoin at the Fireplace Loun
 ge to catch up\, make new connections\, and celebrate the enduring spi
 rit of…
 
DTSTART:20260328T213000Z
DTEND:20260328T230000Z
CLASS:PUBLIC
UID:batesevent-41357@https://www.bates.edu/alumni
URL:https://www.bates.edu/alumni/?p=41357
END:VEVENT
END:VCALENDAR