BEGIN:VCALENDAR
PRODID:-//hacksw/handcal//NONSGML v1.0//EN
VERSION:2.0
METHOD:PUBLISH
BEGIN:VEVENT
SUMMARY:Flipping the Birds: A monthly page turning of John James Audubon’s Birds of America
LOCATION: Ladd Library\, \, \, 
DESCRIPTION:Please join us for December's page turning of John James Audubon's Bi
 rds of America at 12:30pm in the lobby of Ladd Library! The Muskie A
 rchives presents its copy of John James Audubon's Birds of America 
 for display in the lobby of Ladd Library. This edition is a double ele
 phant folio published in 1860 and features 150 of the 435 drawings tha
 t…
 
DTSTART:20251210T173000Z
DTEND:20251210T180000Z
CLASS:PUBLIC
UID:batesevent-1313@https://www.bates.edu/archives
URL:https://www.bates.edu/archives/?p=1313
END:VEVENT
END:VCALENDAR