BEGIN:VCALENDAR
PRODID:-//hacksw/handcal//NONSGML v1.0//EN
VERSION:2.0
METHOD:PUBLISH
BEGIN:VEVENT
SUMMARY:CBB Pedagogy Matters: Cognitive Challenges of Effective Teaching (from Stephen Chew)
LOCATION:Zoom \, \, \, 
DESCRIPTION:Interactive online workshop led by Dr. Stephen Chew\, professor of psy
 chology at Samford\, who studies the impact of cognitive load on learn
 ing\, the importance of student curiosity and trust in the teacher\, a
 nd the misconceptions that students bring into the classroom. After th
 is virtual talk\, join other attendees in Commons for lunch and chitch
 at.
 
DTSTART:20240823T130000Z
DTEND:20240823T160000Z
CLASS:PUBLIC
UID:batesevent-1274@https://www.bates.edu/center-inclusive-teaching-learning
URL:https://www.bates.edu/center-inclusive-teaching-learning/?p=1274
END:VEVENT
END:VCALENDAR