BEGIN:VCALENDAR
PRODID:-//hacksw/handcal//NONSGML v1.0//EN
VERSION:2.0
METHOD:PUBLISH
BEGIN:VEVENT
SUMMARY:2018 Annual Otis Lecture\, Elizabeth Rush\,
LOCATION:
DESCRIPTION:“On Rising: Exertion\, Activism\, and Art in the Age of Climate Chan
 ge”
 
DTSTART:20181027T040000Z
DTEND:20181027T040000Z
CLASS:PUBLIC
UID:batesevent-3322@https://www.bates.edu/environmental-studies
URL:https://www.bates.edu/environmental-studies/?p=3322
END:VEVENT
END:VCALENDAR