BEGIN:VCALENDAR
PRODID:-//hacksw/handcal//NONSGML v1.0//EN
VERSION:2.0
METHOD:PUBLISH
BEGIN:VEVENT
SUMMARY:2019 Otis Lecture featuring Ross Gay\, “Delight\, Gratitude\, Joy: Entangle Me” 11/4/19
LOCATION: tbd\, \, \, 
DESCRIPTION:The annual Otis lecture is made possible by the Philip J. Otis ’95 E
 ndowment.  
 
DTSTART:20191104T050000Z
DTEND:20191104T050000Z
CLASS:PUBLIC
UID:batesevent-3317@https://www.bates.edu/environmental-studies
URL:https://www.bates.edu/environmental-studies/?p=3317
END:VEVENT
END:VCALENDAR