BEGIN:VCALENDAR
PRODID:-//hacksw/handcal//NONSGML v1.0//EN
VERSION:2.0
METHOD:PUBLISH
BEGIN:VEVENT
SUMMARY:24th Annual Otis Lecture\, Winona LaDuke – Postponed from 2020.
LOCATION: Olin Arts Center Concert Hall\, \, \, 
DESCRIPTION:Winona LaDuke\, economist\, activist\, and author\, will deliver a tal
 k titled:  "The 7th Fire and a Just Transition:  Indigenous People 
 and the Next Economy" A book signing will follow the lecture. The even
 t is free\, but due to COVID-19\, is only open to Bates students\, fac
 ulty\, and staff. Tickets and face masks are required for entry.…
 
DTSTART:20211025T233000Z
DTEND:20211026T010000Z
CLASS:PUBLIC
UID:batesevent-3385@https://www.bates.edu/environmental-studies
URL:https://www.bates.edu/environmental-studies/?p=3385
END:VEVENT
END:VCALENDAR