BEGIN:VCALENDAR
PRODID:-//hacksw/handcal//NONSGML v1.0//EN
VERSION:2.0
METHOD:PUBLISH
BEGIN:VEVENT
SUMMARY:26th Annual Otis Lecture – Nancy Campbell
LOCATION:Room 210 Olin Arts Center Concert Hall\, Lewiston\, ME\, 04240
DESCRIPTION:Campbell is a poet\, essayist\, and book printer who has written exten
 sively about the polar regions and ice. In 2018 she was appointed UK's
  Canal Laureate by the Canal & River Trust and The Poetry Society. Her
  two works of nonfiction are The Library of Ice (2017) and Fifty Words
  for Snow (2020). She received the Royal Geographical Society Ness Awa
 rd 2020 and the Birgit Skiöld Award 2015\, and is a former MarieClair
 e ‘Wonder Woman’.
 
DTSTART:20231023
DTEND:20231024
CLASS:PUBLIC
UID:batesevent-4055@https://www.bates.edu/environmental-studies
URL:https://www.bates.edu/environmental-studies/?p=4055
END:VEVENT
END:VCALENDAR