BEGIN:VCALENDAR
PRODID:-//hacksw/handcal//NONSGML v1.0//EN
VERSION:2.0
METHOD:PUBLISH
BEGIN:VEVENT
SUMMARY:27th Annual Otis Lecture – Lauret Savoy
LOCATION: Olin Arts Center\, \, \, 
DESCRIPTION:This year’s lecture\, “Trace: Memory\, History\, Race\, and the Am
 erican Landscape” will be given by Lauret Savoy\, author of Trace. 
 This lecture is made possible by the Philip J. Otis ’95 Endowment.
 
DTSTART:20240930T230000Z
DTEND:20241001T000000Z
CLASS:PUBLIC
UID:batesevent-4235@https://www.bates.edu/environmental-studies
URL:https://www.bates.edu/environmental-studies/?p=4235
END:VEVENT
END:VCALENDAR