BEGIN:VCALENDAR
PRODID:-//hacksw/handcal//NONSGML v1.0//EN
VERSION:2.0
METHOD:PUBLISH
BEGIN:VEVENT
SUMMARY:Daegan Miller
LOCATION:
DESCRIPTION:"The Work Of Imagination In the Age of Catastrophe" 1/30/19
 
DTSTART:20190130
DTEND:20190130
CLASS:PUBLIC
UID:batesevent-3512@https://www.bates.edu/environmental-studies
URL:https://www.bates.edu/environmental-studies/?p=3512
END:VEVENT
END:VCALENDAR