BEGIN:VCALENDAR
PRODID:-//hacksw/handcal//NONSGML v1.0//EN
VERSION:2.0
METHOD:PUBLISH
BEGIN:VEVENT
SUMMARY:Film viewing and discusion – “Salvaxe\, salvaxe” [Wild\, Wild] (2024)
LOCATION:301 Pettigrew\, \, \, 
DESCRIPTION:Salvaxe\, salvaxe [Wild\, Wild] (2024)\, by Galician director Emilio F
 onseca\, is a nature antidocumentary: wolves look back at the camera\,
  terrified\, and humans howl. All of us creatures leave traces in this
  careful dance of tracked trackers. This film goes deep into the fores
 ts of Galicia and Portugal\, among the whispers\, tracking images and 
 absences…
 
DTSTART:20250313T203000Z
DTEND:20250313T223000Z
CLASS:PUBLIC
UID:batesevent-4261@https://www.bates.edu/environmental-studies
URL:https://www.bates.edu/environmental-studies/?p=4261
END:VEVENT
END:VCALENDAR