BEGIN:VCALENDAR
PRODID:-//hacksw/handcal//NONSGML v1.0//EN
VERSION:2.0
METHOD:PUBLISH
BEGIN:VEVENT
SUMMARY:Film viewing & Q&A with Spanish Director Nayra Sanz Fuentes
LOCATION:110 Coram Library\, \, \, 
DESCRIPTION:Dystopias Achieved is the forthcoming feature film of Sanz Fuentes\, 
 a poetic and subtle exploration of the complex relationships between h
 uman beings\, nature\, and technology at play in various contemporaneo
 us spaces and issues\, such as migratory movements\, climate change\, 
 and the mechanization of life.\n\n\nSponsored by Bates' Learning Assoc
 iates Program. With the participation of Bates' Environmental Studies\
 , Hispanic Studies\, and Rhetoric\, Film\, and Screen Studies Departme
 nts.
 
DTSTART:20240328T203000Z
DTEND:20240328T223000Z
CLASS:PUBLIC
UID:batesevent-4156@https://www.bates.edu/environmental-studies
URL:https://www.bates.edu/environmental-studies/?p=4156
END:VEVENT
END:VCALENDAR