BEGIN:VCALENDAR
PRODID:-//hacksw/handcal//NONSGML v1.0//EN
VERSION:2.0
METHOD:PUBLISH
BEGIN:VEVENT
SUMMARY:“Urban Agriculture\, Aquaponics\, and the Future of Food Justice in the City” 4/1/19
LOCATION:G65 Pettengill Hall\, \, \, 
DESCRIPTION:Lecture and Discussion with Yemi Amu\, co-founder of Oko Farm\, Brookl
 yn NYC.
 
DTSTART:20190401T230000Z
DTEND:20190402T000000Z
CLASS:PUBLIC
UID:batesevent-3309@https://www.bates.edu/environmental-studies
URL:https://www.bates.edu/environmental-studies/?p=3309
END:VEVENT
END:VCALENDAR