BEGIN:VCALENDAR
PRODID:-//hacksw/handcal//NONSGML v1.0//EN
VERSION:2.0
METHOD:PUBLISH
BEGIN:VEVENT
SUMMARY:Pattiann Rogers
LOCATION:
DESCRIPTION:Seventh Annual Otis Lecture - "Life in an Expanding Universe"
 
DTSTART:20031022T230000Z
DTEND:20031023T000000Z
CLASS:PUBLIC
UID:batesevent-3999@https://www.bates.edu/environmental-studies
URL:https://www.bates.edu/environmental-studies/?p=3999
END:VEVENT
END:VCALENDAR