BEGIN:VCALENDAR
PRODID:-//hacksw/handcal//NONSGML v1.0//EN
VERSION:2.0
METHOD:PUBLISH
BEGIN:VEVENT
SUMMARY:“Trespassing Across America\,” Lecture by Ken Ilgunas 10/5/18
LOCATION:
DESCRIPTION:Ken Ilgunas walked 1\,700 miles across North America\, following the 
 proposed route of the Keystone XL pipeline\, from Hardisty\, Alberta\,
  to the Gulf Coast of Texas. On his journey Ken encountered stampedes 
 of cows\, charging moose\, and climate change deniers. Come learn abou
 t Ken’s adventure\, the world’s first modern journey across privat
 e property\, on which he…
 
DTSTART:20181005
DTEND:20181005
CLASS:PUBLIC
UID:batesevent-3505@https://www.bates.edu/environmental-studies
URL:https://www.bates.edu/environmental-studies/?p=3505
END:VEVENT
END:VCALENDAR