BEGIN:VCALENDAR
PRODID:-//hacksw/handcal//NONSGML v1.0//EN
VERSION:2.0
METHOD:PUBLISH
BEGIN:VEVENT
SUMMARY:EnviroLunch – Student Stories from the Field
LOCATION:221 Commons\, \, \, 
DESCRIPTION:Maggie O'Shea:  Intern\, Sierra Club\, Rocky Mt. Chapter\nNell Pearso
 n:  Historical Horticulture Intern\, Plimoth Plantation\nLars Schuste
 r:  Intern\, Fishpond\nElliot Wilson:  La Plata Open Space Conservanc
 y
 
DTSTART:20190320T160000Z
DTEND:20190320T170000Z
CLASS:PUBLIC
UID:batesevent-3284@https://www.bates.edu/environmental-studies
URL:https://www.bates.edu/environmental-studies/?p=3284
END:VEVENT
END:VCALENDAR