BEGIN:VCALENDAR
PRODID:-//hacksw/handcal//NONSGML v1.0//EN
VERSION:2.0
METHOD:PUBLISH
BEGIN:VEVENT
SUMMARY:Homeschool Learners Workshop
LOCATION:Museum of Art Bates Olin Arts Center\, Lewiston\, ME\, 04240
DESCRIPTION:[caption id="attachment_7044" align="aligncenter" width="495"] Yao Mus
 ical Instruments[/caption] Homeschool learner workshops are open to st
 udents ages 5-15 @ $5 dollars per person. The museum education staff w
 ill guide participants on an exploration of the exhibition and then le
 ad them through an hour of art making. Three workshops are offered\, w
 ith each exploring a different aspect of…
 
DTSTART:20140418T173000Z
DTEND:20140418T190000Z
CLASS:PUBLIC
UID:batesevent-7323@https://www.bates.edu/museum
URL:https://www.bates.edu/museum/?p=7323
END:VEVENT
END:VCALENDAR