BEGIN:VCALENDAR
PRODID:-//hacksw/handcal//NONSGML v1.0//EN
VERSION:2.0
METHOD:PUBLISH
BEGIN:VEVENT
SUMMARY:Ken Burns Jazz – Episode 10: “A Masterpiece by Midnight”
LOCATION:room 104 Olin Arts Center\, Lewiston\, ME\, 04240
DESCRIPTION:[caption id="attachment_7977" align="alignleft" width="212"] Joseph Ho
 lston\, Jazz\, 1990\, Screenprint[/caption] By the early 1960s\, jazz 
 is in trouble. Young people now overwhelmingly prefer rock ’n roll 
  though Louis Armstrong manages to outsell the Beatles with “Hello
  Dolly” and Stan Getz helps boost a craze for Bossa Nova. Desperate 
 for work\, some musicians go into exile…
 
DTSTART:20141209T003000Z
DTEND:20141209T020000Z
CLASS:PUBLIC
UID:batesevent-7993@https://www.bates.edu/museum
URL:https://www.bates.edu/museum/?p=7993
END:VEVENT
END:VCALENDAR