BEGIN:VCALENDAR
PRODID:-//hacksw/handcal//NONSGML v1.0//EN
VERSION:2.0
METHOD:PUBLISH
BEGIN:VEVENT
SUMMARY:Diane Walsh\, solo piano
LOCATION:
DESCRIPTION:A solo\, classical piano concert by former faculty member at the Manne
 s School of Music\, Diane Walsh.
 
DTSTART:20220130T200000Z
DTEND:20220130T210000Z
CLASS:PUBLIC
UID:batesevent-4159@https://www.bates.edu/music
URL:https://www.bates.edu/music/?p=4159
END:VEVENT
END:VCALENDAR