BEGIN:VCALENDAR
PRODID:-//hacksw/handcal//NONSGML v1.0//EN
VERSION:2.0
METHOD:PUBLISH
BEGIN:VEVENT
SUMMARY:Craft & Mend Days at the Costume Shop
LOCATION:(Costume Shop) Schaeffer Theatre 102\, \, \, 
DESCRIPTION:Hosted by the Bates Theater + Dance Costume Shop\,  come by any time 
 during the open Craft & Mend Days to use our space and materials\, plu
 s the guidance of Costume Director Rebecca Armstrong! Drop in to do so
 me mending\, learn to sew (minor hand or machine)\, have measurements 
 taken\, use a hot glue gun\,…
 
DTSTART:20260512T130000Z
DTEND:20260512T200000Z
CLASS:PUBLIC
UID:batesevent-6687@https://www.bates.edu/theater-dance
URL:https://www.bates.edu/theater-dance/?p=6687
END:VEVENT
END:VCALENDAR