BEGIN:VCALENDAR
PRODID:-//hacksw/handcal//NONSGML v1.0//EN
VERSION:2.0
METHOD:PUBLISH
BEGIN:VEVENT
SUMMARY:My Love Is Like Eternity
LOCATION:Immersive Media Studio Coram Library \, Lewiston \, ME\, 04240
DESCRIPTION:Out to Dry features the performative and choreographic thesis work of
  Dance Major Lola Buczkowski '25.
 
DTSTART:20250213T003000Z
DTEND:20250214T003000Z
CLASS:PUBLIC
UID:batesevent-5553@https://www.bates.edu/theater-dance
URL:https://www.bates.edu/theater-dance/?p=5553
END:VEVENT
END:VCALENDAR