BEGIN:VCALENDAR
PRODID:-//hacksw/handcal//NONSGML v1.0//EN
VERSION:2.0
METHOD:PUBLISH
BEGIN:VEVENT
SUMMARY:interbeing
LOCATION:Immersive Media Studio Coram Library\, \, \, 
DESCRIPTION:sinuous forms. slippery edges. skin and rock. Lola Buczkowskiâ€™sÂ int
 erbeingÂ is a "solo" performance exploring the entangled relationship 
 between human and more-than-human entities. Taking inspiration from th
 e layered and regenerative nature of the geologic realm\, this dance r
 eimagines the human form and complicates an anthropocentric notion of 
 time. Join Lola Buczkowski '25Â on Thursday (5/21) and Friday (5/22)â€
 ¦
 
DTSTART:20260521T210000Z
DTEND:20260521T220000Z
CLASS:PUBLIC
UID:batesevent-6673@https://www.bates.edu/theater-dance
URL:https://www.bates.edu/theater-dance/?p=6673
END:VEVENT
END:VCALENDAR