BEGIN:VCALENDAR
PRODID:-//hacksw/handcal//NONSGML v1.0//EN
VERSION:2.0
METHOD:PUBLISH
BEGIN:VEVENT
SUMMARY:Racial Justice and Housing Inequity: An Interdisciplinary Roundtable
LOCATION:221 Commons\, \, \, 
DESCRIPTION:An event in anticipation of the campus production The Luck of the Iris
 h by Kirsten Greenidge\, a play about racism and redlining in 1950s Bo
 ston\, playing in Gannett Theatre October 28-November 1. SPEAKERS INCL
 UDE JESSICA LAVOICE (ECONOMICS - BOWDOIN COLLEGE)MARCELLE MEDFORD (SOC
 IOLOGY/AFRICANA)MICHAEL MURRAY (ECONOMICS)CHARLES NERO (RHETORIC\, FIL
 M\, AND SCREEN STUDIES AND AFRICANA)CLIFFORD ODLE (THEATER)PAUL SCHOFI
 ELD…
 
DTSTART:20211019T203000Z
DTEND:20211019T220000Z
CLASS:PUBLIC
UID:batesevent-3251@https://www.bates.edu/theater
URL:https://www.bates.edu/theater/?p=3251
END:VEVENT
END:VCALENDAR